BEGIN:VCALENDAR
VERSION:2.0
PRODID:icalendar-ruby
CALSCALE:GREGORIAN
METHOD:PUBLISH
BEGIN:VEVENT
DTSTAMP:20260424T232238Z
UID:9-671708@stpetersanborn.com
DTSTART:20261101T160000Z
DTEND:20261101T170000Z
CLASS:PUBLIC
CREATED:20260424T190545
DESCRIPTION:
LAST-MODIFIED:20260424T190545
LOCATION:
SUMMARY:Sunday Worship
URL;VALUE=URI:https://stpetersanborn.com/events/sunday-worship--9/2026-11-0
 1
END:VEVENT
END:VCALENDAR
